BEGIN:VCALENDAR
VERSION:2.0
PRODID:-//BMSS, LLC - ECPv6.15.20//NONSGML v1.0//EN
CALSCALE:GREGORIAN
METHOD:PUBLISH
X-ORIGINAL-URL:https://www.bmss.com
X-WR-CALDESC:Events for BMSS, LLC
REFRESH-INTERVAL;VALUE=DURATION:PT1H
X-Robots-Tag:noindex
X-PUBLISHED-TTL:PT1H
BEGIN:VTIMEZONE
TZID:America/Chicago
BEGIN:DAYLIGHT
TZOFFSETFROM:-0600
TZOFFSETTO:-0500
TZNAME:CDT
DTSTART:20230312T080000
END:DAYLIGHT
BEGIN:STANDARD
TZOFFSETFROM:-0500
TZOFFSETTO:-0600
TZNAME:CST
DTSTART:20231105T070000
END:STANDARD
BEGIN:DAYLIGHT
TZOFFSETFROM:-0600
TZOFFSETTO:-0500
TZNAME:CDT
DTSTART:20240310T080000
END:DAYLIGHT
BEGIN:STANDARD
TZOFFSETFROM:-0500
TZOFFSETTO:-0600
TZNAME:CST
DTSTART:20241103T070000
END:STANDARD
BEGIN:DAYLIGHT
TZOFFSETFROM:-0600
TZOFFSETTO:-0500
TZNAME:CDT
DTSTART:20250309T080000
END:DAYLIGHT
BEGIN:STANDARD
TZOFFSETFROM:-0500
TZOFFSETTO:-0600
TZNAME:CST
DTSTART:20251102T070000
END:STANDARD
END:VTIMEZONE
BEGIN:VEVENT
DTSTART;TZID=America/Chicago:20241016T083000
DTEND;TZID=America/Chicago:20241016T103000
DTSTAMP:20260423T152106
CREATED:20240606T181121Z
LAST-MODIFIED:20250924T191846Z
UID:10000014-1729067400-1729074600@www.bmss.com
SUMMARY:BMSS Presents:  An Ethics Update with Steve Platau
DESCRIPTION:With the new CPE year just beginning\, fulfill your Alabama Ethics requirement by joining us as Steve Platau discusses professional ethics and what that means for the accounting profession. \nThis course will fulfill the 2.0-hour ethics requirement for Alabama CPAs. \n  \n 
URL:https://www.bmss.com/event/bmss-presents-an-ethics-update-with-steve-platau/
CATEGORIES:Webinar
END:VEVENT
END:VCALENDAR