BEGIN:VCALENDAR
VERSION:2.0
PRODID:-//BMSS, LLC - ECPv6.15.20//NONSGML v1.0//EN
CALSCALE:GREGORIAN
METHOD:PUBLISH
X-ORIGINAL-URL:https://www.bmss.com
X-WR-CALDESC:Events for BMSS, LLC
REFRESH-INTERVAL;VALUE=DURATION:PT1H
X-Robots-Tag:noindex
X-PUBLISHED-TTL:PT1H
BEGIN:VTIMEZONE
TZID:America/Chicago
BEGIN:DAYLIGHT
TZOFFSETFROM:-0600
TZOFFSETTO:-0500
TZNAME:CDT
DTSTART:20230312T080000
END:DAYLIGHT
BEGIN:STANDARD
TZOFFSETFROM:-0500
TZOFFSETTO:-0600
TZNAME:CST
DTSTART:20231105T070000
END:STANDARD
BEGIN:DAYLIGHT
TZOFFSETFROM:-0600
TZOFFSETTO:-0500
TZNAME:CDT
DTSTART:20240310T080000
END:DAYLIGHT
BEGIN:STANDARD
TZOFFSETFROM:-0500
TZOFFSETTO:-0600
TZNAME:CST
DTSTART:20241103T070000
END:STANDARD
BEGIN:DAYLIGHT
TZOFFSETFROM:-0600
TZOFFSETTO:-0500
TZNAME:CDT
DTSTART:20250309T080000
END:DAYLIGHT
BEGIN:STANDARD
TZOFFSETFROM:-0500
TZOFFSETTO:-0600
TZNAME:CST
DTSTART:20251102T070000
END:STANDARD
END:VTIMEZONE
BEGIN:VEVENT
DTSTART;TZID=America/Chicago:20240808T083000
DTEND;TZID=America/Chicago:20240808T100000
DTSTAMP:20260423T183818
CREATED:20240703T192207Z
LAST-MODIFIED:20251120T181252Z
UID:10000018-1723105800-1723111200@www.bmss.com
SUMMARY:BMSS Presents:  A Construction Industry Update
DESCRIPTION:Join us as our team of professionals discuss the latest trends in the construction industry\, including strategies and regulatory updates crucial for navigating today’s complex business landscape.
URL:https://www.bmss.com/event/bmss-presents-a-construction-industry-update/
CATEGORIES:Webinar
END:VEVENT
BEGIN:VEVENT
DTSTART;TZID=America/Chicago:20240813T083000
DTEND;TZID=America/Chicago:20240814T123000
DTSTAMP:20260423T183818
CREATED:20240716T191550Z
LAST-MODIFIED:20250924T191834Z
UID:10000019-1723537800-1723638600@www.bmss.com
SUMMARY:BMSS Presents:  An Accounting & Auditing Update
DESCRIPTION:Please join us for our annual summer Accounting & Auditing Update (webinar) which will feature assurance topics and trends in the evolving accounting industry presented by our very own\, engaging Mike Brand. \nBy registering for both sessions\, you will have the opportunity to earn up to eight hours of accounting and auditing CPE. \n 
URL:https://www.bmss.com/event/bmss-presents-an-accounting-auditing-update/
CATEGORIES:Webinar
END:VEVENT
END:VCALENDAR