BEGIN:VCALENDAR
VERSION:2.0
PRODID:-//BMSS, LLC - ECPv6.15.20//NONSGML v1.0//EN
CALSCALE:GREGORIAN
METHOD:PUBLISH
X-WR-CALNAME:BMSS, LLC
X-ORIGINAL-URL:https://www.bmss.com
X-WR-CALDESC:Events for BMSS, LLC
REFRESH-INTERVAL;VALUE=DURATION:PT1H
X-Robots-Tag:noindex
X-PUBLISHED-TTL:PT1H
BEGIN:VTIMEZONE
TZID:America/Chicago
BEGIN:DAYLIGHT
TZOFFSETFROM:-0600
TZOFFSETTO:-0500
TZNAME:CDT
DTSTART:20200308T080000
END:DAYLIGHT
BEGIN:STANDARD
TZOFFSETFROM:-0500
TZOFFSETTO:-0600
TZNAME:CST
DTSTART:20201101T070000
END:STANDARD
BEGIN:DAYLIGHT
TZOFFSETFROM:-0600
TZOFFSETTO:-0500
TZNAME:CDT
DTSTART:20210314T080000
END:DAYLIGHT
BEGIN:STANDARD
TZOFFSETFROM:-0500
TZOFFSETTO:-0600
TZNAME:CST
DTSTART:20211107T070000
END:STANDARD
BEGIN:DAYLIGHT
TZOFFSETFROM:-0600
TZOFFSETTO:-0500
TZNAME:CDT
DTSTART:20220313T080000
END:DAYLIGHT
BEGIN:STANDARD
TZOFFSETFROM:-0500
TZOFFSETTO:-0600
TZNAME:CST
DTSTART:20221106T070000
END:STANDARD
END:VTIMEZONE
BEGIN:VEVENT
DTSTART;TZID=America/Chicago:20210817T140000
DTEND;TZID=America/Chicago:20210817T150000
DTSTAMP:20260422T174013
CREATED:20210706T212128Z
LAST-MODIFIED:20250924T192745Z
UID:10000072-1629208800-1629212400@www.bmss.com
SUMMARY:BMSS & Bradley Present: Small Business Set Asides: How to Qualify and Compete
DESCRIPTION:Join Sarah Osborne to discuss how to set up your business to qualify for small business set asides in government contracting\, including the certification and registration process.  Sarah will also give an overview of the competitive process for set aside contracts and other valuable tips for navigating government procurements. \n 
URL:https://www.bmss.com/event/bmss-bradley-present-supporting-disadvantaged-business-enterprises/
CATEGORIES:Webinar
ATTACH;FMTTYPE=image/jpeg:https://www.bmss.com/wp-content/uploads/Square-BradleyBMSS-Webinar-small-business-1.jpg
END:VEVENT
BEGIN:VEVENT
DTSTART;TZID=America/Chicago:20210810T140000
DTEND;TZID=America/Chicago:20210810T150000
DTSTAMP:20260422T174013
CREATED:20210706T212158Z
LAST-MODIFIED:20250924T192750Z
UID:10000073-1628604000-1628607600@www.bmss.com
SUMMARY:BMSS & Bradley Present: Managing Risk: From Internal Employment Issues to Common Contracting Pitfalls
DESCRIPTION:Every day\, companies of all sizes face legal and employment issues that can seem overwhelming\, but not every company has in-house counsel or a Director of Human Resources to turn to when situations seem sticky. Join us August 10 as Abba Harris and Sarahanne Vaughan of Bradley highlight areas of high risk and discuss how you can prepare to weather any upcoming storms. \n 
URL:https://www.bmss.com/event/bmss-bradley-present-supporting-disadvantaged-business-enterprises-2/
CATEGORIES:Webinar
ATTACH;FMTTYPE=image/jpeg:https://www.bmss.com/wp-content/uploads/Square-BradleyBMSS-Webinar-2-update.jpg
END:VEVENT
BEGIN:VEVENT
DTSTART;TZID=America/Chicago:20210803T140000
DTEND;TZID=America/Chicago:20210803T150000
DTSTAMP:20260422T174013
CREATED:20210706T211135Z
LAST-MODIFIED:20250924T192756Z
UID:10000074-1627999200-1628002800@www.bmss.com
SUMMARY:BMSS & Bradley Present: Identifying and Leveraging Your Socioeconomic (dis)Advantages
DESCRIPTION:In this webinar\, we will discuss the various contracting assistance programs available through the U.S. Small Business Administration (SBA) for small and/or disadvantaged construction companies\, including how to qualify for and maintain good standing with the programs. We will also take a quick look at specific government contract opportunities available to members of these programs. \n 
URL:https://www.bmss.com/event/three-part-dbe-webinar-series/
CATEGORIES:Webinar
ATTACH;FMTTYPE=image/jpeg:https://www.bmss.com/wp-content/uploads/Instagram-Bradley-Webinar-series-1.jpg
END:VEVENT
BEGIN:VEVENT
DTSTART;TZID=America/Chicago:20210729T083000
DTEND;TZID=America/Chicago:20210729T093000
DTSTAMP:20260422T174013
CREATED:20210629T202806Z
LAST-MODIFIED:20251217T135126Z
UID:10000075-1627547400-1627551000@www.bmss.com
SUMMARY:BMSS Presents:  Hiring & Retaining Your Workforce Post-Pandemic
DESCRIPTION:Now that the economy is recovering from the COVID-19 pandemic and people are venturing back out into the world to resume in-person activities\, the demand for a strong workforce is foremost in management and business owners’ minds. What can you do to retain the employees you have while\, at the same time\, look for new talent to hire? \nJoin us as local business leaders discuss this topic as well as the struggles businesses are facing with their workforces. We will be taking questions from attendees. Please submit yours to marketing@bmss.com. \n.
URL:https://www.bmss.com/event/bmss-presents-hiring-retaining-your-workforce-post-pandemic/
CATEGORIES:Webinar
ATTACH;FMTTYPE=image/jpeg:https://www.bmss.com/wp-content/uploads/FB-Hiring-and-Retaining-Your-Workforce-Post-Pandemic-2.jpg
END:VEVENT
END:VCALENDAR