BEGIN:VCALENDAR
VERSION:2.0
PRODID:-//BMSS, LLC - ECPv6.15.20//NONSGML v1.0//EN
CALSCALE:GREGORIAN
METHOD:PUBLISH
X-WR-CALNAME:BMSS, LLC
X-ORIGINAL-URL:https://www.bmss.com
X-WR-CALDESC:Events for BMSS, LLC
REFRESH-INTERVAL;VALUE=DURATION:PT1H
X-Robots-Tag:noindex
X-PUBLISHED-TTL:PT1H
BEGIN:VTIMEZONE
TZID:America/Chicago
BEGIN:DAYLIGHT
TZOFFSETFROM:-0600
TZOFFSETTO:-0500
TZNAME:CDT
DTSTART:20200308T080000
END:DAYLIGHT
BEGIN:STANDARD
TZOFFSETFROM:-0500
TZOFFSETTO:-0600
TZNAME:CST
DTSTART:20201101T070000
END:STANDARD
BEGIN:DAYLIGHT
TZOFFSETFROM:-0600
TZOFFSETTO:-0500
TZNAME:CDT
DTSTART:20210314T080000
END:DAYLIGHT
BEGIN:STANDARD
TZOFFSETFROM:-0500
TZOFFSETTO:-0600
TZNAME:CST
DTSTART:20211107T070000
END:STANDARD
BEGIN:DAYLIGHT
TZOFFSETFROM:-0600
TZOFFSETTO:-0500
TZNAME:CDT
DTSTART:20220313T080000
END:DAYLIGHT
BEGIN:STANDARD
TZOFFSETFROM:-0500
TZOFFSETTO:-0600
TZNAME:CST
DTSTART:20221106T070000
END:STANDARD
END:VTIMEZONE
BEGIN:VEVENT
DTSTART;TZID=America/Chicago:20210729T083000
DTEND;TZID=America/Chicago:20210729T093000
DTSTAMP:20260422T044521
CREATED:20210629T202806Z
LAST-MODIFIED:20251217T135126Z
UID:10000075-1627547400-1627551000@www.bmss.com
SUMMARY:BMSS Presents:  Hiring & Retaining Your Workforce Post-Pandemic
DESCRIPTION:Now that the economy is recovering from the COVID-19 pandemic and people are venturing back out into the world to resume in-person activities\, the demand for a strong workforce is foremost in management and business owners’ minds. What can you do to retain the employees you have while\, at the same time\, look for new talent to hire? \nJoin us as local business leaders discuss this topic as well as the struggles businesses are facing with their workforces. We will be taking questions from attendees. Please submit yours to marketing@bmss.com. \n.
URL:https://www.bmss.com/event/bmss-presents-hiring-retaining-your-workforce-post-pandemic/
CATEGORIES:Webinar
ATTACH;FMTTYPE=image/jpeg:https://www.bmss.com/wp-content/uploads/FB-Hiring-and-Retaining-Your-Workforce-Post-Pandemic-2.jpg
END:VEVENT
END:VCALENDAR