BEGIN:VCALENDAR
VERSION:2.0
PRODID:-//BMSS, LLC - ECPv6.15.20//NONSGML v1.0//EN
CALSCALE:GREGORIAN
METHOD:PUBLISH
X-WR-CALNAME:BMSS, LLC
X-ORIGINAL-URL:https://www.bmss.com
X-WR-CALDESC:Events for BMSS, LLC
REFRESH-INTERVAL;VALUE=DURATION:PT1H
X-Robots-Tag:noindex
X-PUBLISHED-TTL:PT1H
BEGIN:VTIMEZONE
TZID:America/Chicago
BEGIN:DAYLIGHT
TZOFFSETFROM:-0600
TZOFFSETTO:-0500
TZNAME:CDT
DTSTART:20200308T080000
END:DAYLIGHT
BEGIN:STANDARD
TZOFFSETFROM:-0500
TZOFFSETTO:-0600
TZNAME:CST
DTSTART:20201101T070000
END:STANDARD
BEGIN:DAYLIGHT
TZOFFSETFROM:-0600
TZOFFSETTO:-0500
TZNAME:CDT
DTSTART:20210314T080000
END:DAYLIGHT
BEGIN:STANDARD
TZOFFSETFROM:-0500
TZOFFSETTO:-0600
TZNAME:CST
DTSTART:20211107T070000
END:STANDARD
BEGIN:DAYLIGHT
TZOFFSETFROM:-0600
TZOFFSETTO:-0500
TZNAME:CDT
DTSTART:20220313T080000
END:DAYLIGHT
BEGIN:STANDARD
TZOFFSETFROM:-0500
TZOFFSETTO:-0600
TZNAME:CST
DTSTART:20221106T070000
END:STANDARD
BEGIN:DAYLIGHT
TZOFFSETFROM:-0600
TZOFFSETTO:-0500
TZNAME:CDT
DTSTART:20230312T080000
END:DAYLIGHT
BEGIN:STANDARD
TZOFFSETFROM:-0500
TZOFFSETTO:-0600
TZNAME:CST
DTSTART:20231105T070000
END:STANDARD
BEGIN:DAYLIGHT
TZOFFSETFROM:-0600
TZOFFSETTO:-0500
TZNAME:CDT
DTSTART:20240310T080000
END:DAYLIGHT
BEGIN:STANDARD
TZOFFSETFROM:-0500
TZOFFSETTO:-0600
TZNAME:CST
DTSTART:20241103T070000
END:STANDARD
END:VTIMEZONE
BEGIN:VEVENT
DTSTART;TZID=America/Chicago:20230404T083000
DTEND;TZID=America/Chicago:20230404T100000
DTSTAMP:20260421T202611
CREATED:20230308T213005Z
LAST-MODIFIED:20250924T192319Z
UID:10000052-1680597000-1680602400@www.bmss.com
SUMMARY:BMSS Presents:  The Current Status of the FTC's  Attack on Non-competes & Other Employment Updates
DESCRIPTION:Recently\, the FTC announced its intent to broadly prohibit non-competition agreements. Join us as Dentons Sirote Shareholder\, Rushton McClees shares valuable insight into the current status of these non-compete discussions and what this means for you as a business. Additionally\, BMSS Human Resources Advisory Service Manager\, Rebecca Tipton\, and Payroll & Benefit Solutions’ Ashley Culliver will provide employment updates from their unique perspectives. \n  \n 
URL:https://www.bmss.com/event/bmss-presents-the-current-status-of-the-ftcs-attack-on-non-competes-other-employment-updates/
CATEGORIES:Webinar
ATTACH;FMTTYPE=image/jpeg:https://www.bmss.com/wp-content/uploads/April-4-Webinar-With-Headshots.jpg
END:VEVENT
BEGIN:VEVENT
DTSTART;TZID=America/Chicago:20230321T083000
DTEND;TZID=America/Chicago:20230321T100000
DTSTAMP:20260421T202611
CREATED:20230216T032342Z
LAST-MODIFIED:20250924T192327Z
UID:10000053-1679387400-1679392800@www.bmss.com
SUMMARY:BMSS Presents: Leadership Lessons from the War in Ukraine
DESCRIPTION:Join us for this special topic webinar as Dr. Duncan Hulsey will address the following questions: \n\nWhy has the takeover of Ukraine failed thus far\, and how does this relate to the leadership styles of Putin and Zelensky?\nWhat leadership lessons from this historic event can be applied to our personal and professional lives?\nSome of the concepts that will be covered are: \n\nTransparency and open communication\nTrusting others\nCommunicating a compelling message\n\n\n\n 
URL:https://www.bmss.com/event/bmss-presents-leadership-lessons-from-the-war-in-ukraine/
CATEGORIES:Webinar
ATTACH;FMTTYPE=image/jpeg:https://www.bmss.com/wp-content/uploads/BMSS-Presents-Leadership-Lessons-from-the-War-in-Ukraine-2.15.jpg
END:VEVENT
BEGIN:VEVENT
DTSTART;TZID=America/Chicago:20230119T083000
DTEND;TZID=America/Chicago:20230119T100000
DTSTAMP:20260421T202611
CREATED:20230105T022952Z
LAST-MODIFIED:20250924T192114Z
UID:10000049-1674117000-1674122400@www.bmss.com
SUMMARY:BMSS Presents: An Economic Update
DESCRIPTION:Over the past year\, there has been a great deal of discussion about whether the country is in a recession\, heading for a recession\, or will narrowly miss being in a recession. The normal indicators have been mixed and there is still a lot of uncertainty surrounding the economy. \nJoin us as we hear an economic update from Anoop Mishra\, VP and Regional Executive for the Federal Reserve Bank of Atlanta (Birmingham Branch) and Oakworth Capital Bank’s Managing Director and Head of Wealth & Investments\, John Norris. \nPlease click “Add to Calendar” in the confirmation email. This will save the link in your calendar appointment. \n 
URL:https://www.bmss.com/event/bmss-presents-an-economic-update-2/
CATEGORIES:Webinar
END:VEVENT
BEGIN:VEVENT
DTSTART;TZID=America/Chicago:20221208T083000
DTEND;TZID=America/Chicago:20221208T100000
DTSTAMP:20260421T202611
CREATED:20221123T205946Z
LAST-MODIFIED:20250924T192109Z
UID:10000048-1670488200-1670493600@www.bmss.com
SUMMARY:BMSS Presents: A Year-End Tax Update
DESCRIPTION:Join us as we discuss tax planning strategies for you to consider before the end of the year. In addition\, we will hear a former IRS agent’s perspective on the recent uptick in IRS activity. \nAfter registering\, you will receive a confirmation email containing information about joining the webinar. Please do not share your link as it is unique to you in providing CPE credit \nPlease click “Add to Calendar” in the confirmation email. This will save the link in your calendar appointment. \n 
URL:https://www.bmss.com/event/bmss-presents-a-year-end-tax-update/
CATEGORIES:Webinar
ATTACH;FMTTYPE=image/jpeg:https://www.bmss.com/wp-content/uploads/BMSS-Presents-A-2022-Year-End-Tax-Update.jpg
END:VEVENT
BEGIN:VEVENT
DTSTART;TZID=America/Chicago:20221118T073000
DTEND;TZID=America/Chicago:20221118T163000
DTSTAMP:20260421T202611
CREATED:20220802T202510Z
LAST-MODIFIED:20250924T192105Z
UID:10000047-1668756600-1668789000@www.bmss.com
SUMMARY:BMSS Presents: A&A Update with Steve Platau
DESCRIPTION:Please join us for our annual accounting and auditing update which will feature up-to-date assurance topics and trends in the evolving accounting industry led by Steve Platau. \nAgenda:\n7:30 a.m. – Registration and Light Breakfast\n8:30 a.m. – Seminar Begins\n12:00 p.m. – Lunch Provided\n4:30 p.m. – End of Seminar \n  \n 
URL:https://www.bmss.com/event/bmss-presents-aa-update-with-steve-platau/
LOCATION:MBN Article Template (DO NOT DELETE)
CATEGORIES:Seminar
ATTACH;FMTTYPE=image/jpeg:https://www.bmss.com/wp-content/uploads/AA-Steve-Platau-Instagram-Post-Square.jpg
END:VEVENT
BEGIN:VEVENT
DTSTART;TZID=America/Chicago:20221103T083000
DTEND;TZID=America/Chicago:20221103T100000
DTSTAMP:20260421T202611
CREATED:20220916T201151Z
LAST-MODIFIED:20250924T192101Z
UID:10000046-1667464200-1667469600@www.bmss.com
SUMMARY:BMSS Presents: A Governmental & Municipalities Update
DESCRIPTION:Join us as our top-notch governmental and municipalities team discusses new and existing accounting rules and regulations that may be affecting your industry. This 90-minute presentation will cover a variety of topics and issues that you face every day in your efforts to stay transparent and accountable.
URL:https://www.bmss.com/event/bmss-presents-a-governmental-municipalities-update/
CATEGORIES:Webinar
ATTACH;FMTTYPE=image/jpeg:https://www.bmss.com/wp-content/uploads/Gov-Muni-graphic-Square.jpg
END:VEVENT
BEGIN:VEVENT
DTSTART;TZID=America/Chicago:20221027T083000
DTEND;TZID=America/Chicago:20221027T100000
DTSTAMP:20260421T202611
CREATED:20221005T190537Z
LAST-MODIFIED:20250924T192607Z
UID:10000054-1666859400-1666864800@www.bmss.com
SUMMARY:BMSS Presents: Strategies to Recession-Proof Your Business
DESCRIPTION:As a recession looms on the horizon\, is your business prepared? We invite you to join the BMSS team as local industry professionals discuss current economic trends\, supply chain updates and resources to help your business weather the storm. \nClick here to register.
URL:https://www.bmss.com/event/bmss-presents-strategies-to-recession-proof-your-business/
CATEGORIES:Webinar
ATTACH;FMTTYPE=image/jpeg:https://www.bmss.com/wp-content/uploads/Strategies-to-Recession-Proof-Your-Business-1.jpg
END:VEVENT
BEGIN:VEVENT
DTSTART;TZID=America/Chicago:20221012T083000
DTEND;TZID=America/Chicago:20221012T093000
DTSTAMP:20260421T202611
CREATED:20220916T201030Z
LAST-MODIFIED:20250924T192612Z
UID:10000055-1665563400-1665567000@www.bmss.com
SUMMARY:BMSS Presents: A Construction Update
DESCRIPTION:Join us as representatives from the banking\, bonding and accounting industries discuss recent trends in the construction industry as well as reporting requirement updates and planning opportunities. \nClick here to register.
URL:https://www.bmss.com/event/bmss-presents-a-construction-update/
CATEGORIES:Webinar
ATTACH;FMTTYPE=image/jpeg:https://www.bmss.com/wp-content/uploads/Construction-webinar-graphic-Square.jpg
END:VEVENT
BEGIN:VEVENT
DTSTART;TZID=America/Chicago:20220920T083000
DTEND;TZID=America/Chicago:20220920T103000
DTSTAMP:20260421T202611
CREATED:20220727T211451Z
LAST-MODIFIED:20250924T192618Z
UID:10000056-1663662600-1663669800@www.bmss.com
SUMMARY:BMSS Presents:  A Professional Ethics Update with Mike Brand
DESCRIPTION:With the Alabama CPE deadline fast approaching\, please join BMSS’ very own talented and engaging Mike Brand as he discusses professional ethics\, what that means and how it affects the accounting profession. This course will fulfill the two-hour ethics requirement for Alabama CPAs. \nClick here to register.
URL:https://www.bmss.com/event/bmss-presents-a-professional-ethics-update-with-mike-brand/
CATEGORIES:Webinar
ATTACH;FMTTYPE=image/jpeg:https://www.bmss.com/wp-content/uploads/An-Ethics-Update-Time-Instagram-Post.jpg
END:VEVENT
BEGIN:VEVENT
DTSTART;TZID=America/Chicago:20220907T070000
DTEND;TZID=America/Chicago:20220907T150000
DTSTAMP:20260421T202611
CREATED:20220804T191920Z
LAST-MODIFIED:20251217T135707Z
UID:10000057-1662534000-1662562800@www.bmss.com
SUMMARY:BMSS Presents: A Government Contracting Summit
DESCRIPTION:Register now for our in-person event! \nRegister\nSeven (7) hours of CPE will be awarded for attending the whole day. \n 
URL:https://www.bmss.com/event/bmss-presents-a-government-contracting-summit/
LOCATION:Jennifer Hilliard
CATEGORIES:Seminar
ATTACH;FMTTYPE=image/jpeg:https://www.bmss.com/wp-content/uploads/A-Gov-Con-Summit-All-Logos-1.jpg
END:VEVENT
BEGIN:VEVENT
DTSTART;TZID=America/Chicago:20220830T083000
DTEND;TZID=America/Chicago:20220831T120000
DTSTAMP:20260421T202611
CREATED:20220727T210914Z
LAST-MODIFIED:20250924T192630Z
UID:10000058-1661848200-1661947200@www.bmss.com
SUMMARY:BMSS Presents: Accounting & Auditing Update
DESCRIPTION:Please join us for our annual summer Accounting & Auditing Update which will feature assurance topics and trends in the evolving accounting industry. \nYou will have the opportunity to earn up to eight hours of CPE that will be hosted through Zoom in segments of four-hour sessions over the course of two days. \nClick here to register for session 1. \nClick here to register for session 2.
URL:https://www.bmss.com/event/bmss-presents-accounting-auditing-update/
CATEGORIES:Webinar
ATTACH;FMTTYPE=image/jpeg:https://www.bmss.com/wp-content/uploads/Square-AA-Update-2022-MB-2.jpg
END:VEVENT
BEGIN:VEVENT
DTSTART;TZID=America/Chicago:20220714T080000
DTEND;TZID=America/Chicago:20220714T093000
DTSTAMP:20260421T202611
CREATED:20220523T061207Z
LAST-MODIFIED:20251217T133508Z
UID:10000059-1657785600-1657791000@www.bmss.com
SUMMARY:BMSS Presents: An Economic Update
DESCRIPTION:Talk of an imminent recession has risen to a steady pitch in the news\, on the Internet and in coffee shops throughout the country. What should we believe and how should we respond? \nJoin us as we hear economic perspectives from Anoop Mishra\, VP and Regional Executive for the Federal Reserve Bank of Atlanta (Birmingham Branch) and Oakworth Capital Bank’s Managing Director and Head of Wealth & Investments\, John Norris. \nSend your questions beforehand to marketing@bmss.com \nClick here to register.
URL:https://www.bmss.com/event/bmss-presents-an-economic-update/
LOCATION:Government Contract Accounting – Ozark (AL)
CATEGORIES:Webinar
ATTACH;FMTTYPE=image/png:https://www.bmss.com/wp-content/uploads/BMSS-Presents-An-Economic-Update.png
END:VEVENT
BEGIN:VEVENT
DTSTART;TZID=America/Chicago:20220616T080000
DTEND;TZID=America/Chicago:20220616T093000
DTSTAMP:20260421T202611
CREATED:20220527T193246Z
LAST-MODIFIED:20250924T192645Z
UID:10000060-1655366400-1655371800@www.bmss.com
SUMMARY:BMSS Presents: A Washington D.C. Update with AICPA's Mark Peterson
DESCRIPTION:Join us on Thursday\, June 16th as Mark Peterson\, Executive VP of Advocacy at the American Institute of CPAs (AICPA)\, provides an update from Washington D.C. Peterson provides global advocacy for management and public accounting\, CPA and CGMA issues working closely with state CPA societies\, national governments\, U.S. state governments\, regulators\, legislators\, and accounting bodies to influence and shape policy decisions impacting the profession. He also leads the Congressional & Political Affairs\, and State Society Affairs\, State Regulatory and Legislative Affairs and Tax Advocacy teams. \nClick here to register.
URL:https://www.bmss.com/event/bmss-presents-a-washington-d-c-update/
CATEGORIES:Webinar
ATTACH;FMTTYPE=image/png:https://www.bmss.com/wp-content/uploads/DC-Webinar-Updates-1.png
END:VEVENT
BEGIN:VEVENT
DTSTART;TZID=America/Chicago:20220505T093000
DTEND;TZID=America/Chicago:20220505T113000
DTSTAMP:20260421T202611
CREATED:20220419T003413Z
LAST-MODIFIED:20251217T133438Z
UID:10000061-1651743000-1651750200@www.bmss.com
SUMMARY:BMSS Presents:  Implementing the New GAAP Lease Standards
DESCRIPTION:After a number of delays and postponements\, Accounting Standards Codification (ASC) 842\, Leases\, is finally here. Join us as Mike Cheng\, National Professional Practice Partner with Frazier & Deeter\, and former Senior Project Manager at the Financial Accounting Standards Board discusses how the Lease accounting standard will change\, the rules surrounding the standard\, and how you can prepare for its implementation. \nThursday\, May 5\, 2022 \n9:30 a.m. \n 
URL:https://www.bmss.com/event/bmss-presents-implementing-the-new-gaap-lease-standards/
LOCATION:City of Columbus MS
CATEGORIES:Webinar
ATTACH;FMTTYPE=image/png:https://www.bmss.com/wp-content/uploads/Lease-Webinar-2.png
END:VEVENT
BEGIN:VEVENT
DTSTART;TZID=America/Chicago:20220426T093000
DTEND;TZID=America/Chicago:20220426T103000
DTSTAMP:20260421T202611
CREATED:20220405T205718Z
LAST-MODIFIED:20250924T192656Z
UID:10000062-1650965400-1650969000@www.bmss.com
SUMMARY:PBS Presents: How to Detect & Prevent HR Vulnerabilities in Your Business
DESCRIPTION:Join PBS and Starnes Davis Florie LLP Partner Trip Umbach as they share how to know if your business is vulnerable\, how to protect it if it is\, and the legal expectations and responsibilities of your human resource department in preventing or mitigating risks. \n 
URL:https://www.bmss.com/event/pbs-presents-how-to-detect-prevent-hr-vulnerabilities-in-your-business/
CATEGORIES:Webinar
ATTACH;FMTTYPE=image/png:https://www.bmss.com/wp-content/uploads/PBS-Webinar-1.png
END:VEVENT
BEGIN:VEVENT
DTSTART;TZID=America/Chicago:20220317T083000
DTEND;TZID=America/Chicago:20220317T100000
DTSTAMP:20260421T202611
CREATED:20220217T215945Z
LAST-MODIFIED:20250924T192703Z
UID:10000063-1647505800-1647511200@www.bmss.com
SUMMARY:ITAC Solutions Presents: Trends & Tactics for the Staffing & Recruiting World
DESCRIPTION:Since March 2020\, nearly every industry’s workforce has experienced significant changes as a result of COVID-19. Many business owners have faced difficulty with hiring and retaining their talent. How can CEOs\, human resources leaders and business owners adapt and thrive as the needs and desires of the workforce continue to evolve? \nJoin ITAC Solutions Founder Brian Pitts as well as Chief of Recruiting\, Charles Baughman\, as they share important information on how to retain current employees while also attracting new talent. \n 
URL:https://www.bmss.com/event/itac-solutions-presents-trends-tactics-for-the-staffing-recruiting-world/
CATEGORIES:Webinar
ATTACH;FMTTYPE=image/png:https://www.bmss.com/wp-content/uploads/ITAC-Webinar-Square.png
END:VEVENT
BEGIN:VEVENT
DTSTART;TZID=America/Chicago:20220310T083000
DTEND;TZID=America/Chicago:20220310T100000
DTSTAMP:20260421T202611
CREATED:20220304T051550Z
LAST-MODIFIED:20250924T192706Z
UID:10000064-1646901000-1646906400@www.bmss.com
SUMMARY:BMSS Presents: What the Russo-Ukrainian War Could Mean for Your Business
DESCRIPTION:On February 24\, 2022\, Russian President Vladimir Putin ordered an invasion of Ukraine by the Russian Armed Forces. Targeted airstrikes and military tanks have destroyed many of Ukraine’s key cities and government buildings while cyberattacks have created havoc on Ukraine’s infrastructure. Ukraine has rallied through a swelling of national pride and international support creating an unexpected resistance for the Russian Army. At the same time\, Putin’s threat of cyberwarfare to countries aiding Ukraine has created concern and uncertainty for individuals and businesses throughout the world. \nJoin us next Thursday\, March 10th as U.S. Military Veteran and Senate Candidate Mike Durant provides us with a federal and military viewpoint. We’ll also receive practical cybersecurity and communication measures businesses should be taking from Abacus Technologies’ President Brian Jackson and BMSS Wesson Wealth Solutions CEO Mark Wesson will share timely wealth management advice. \n 
URL:https://www.bmss.com/event/bmss-presents-what-the-russo-ukrainian-war-could-mean-for-your-business/
CATEGORIES:Webinar
ATTACH;FMTTYPE=image/png:https://www.bmss.com/wp-content/uploads/Russia-Webinar-Mike-5.png
END:VEVENT
BEGIN:VEVENT
DTSTART;TZID=America/Chicago:20220210T083000
DTEND;TZID=America/Chicago:20220210T100000
DTSTAMP:20260421T202611
CREATED:20220113T234545Z
LAST-MODIFIED:20250924T192711Z
UID:10000065-1644481800-1644487200@www.bmss.com
SUMMARY:Abacus Technologies Presents: Leveraging Your Business Data to Save Time and Increase Efficiency
DESCRIPTION:Join us as Abacus Technologies’ Business Intelligence team explores two pillars of intelligent businesses: turning business data into information for faster decision-making to not fall behind the competition\, and turning that information into action by automating workflows to stay ahead. \n 
URL:https://www.bmss.com/event/abacus-technologies-presents-leveraging-your-business-data-to-save-time-and-increase-efficiency/
CATEGORIES:Webinar
ATTACH;FMTTYPE=image/jpeg:https://www.bmss.com/wp-content/uploads/Abacus-Webinar-Square-1.jpg
END:VEVENT
BEGIN:VEVENT
DTSTART;TZID=America/Chicago:20220128T083000
DTEND;TZID=America/Chicago:20220128T100000
DTSTAMP:20260421T202611
CREATED:20211229T011852Z
LAST-MODIFIED:20250924T192715Z
UID:10000066-1643358600-1643364000@www.bmss.com
SUMMARY:BMSS Wesson Presents:  An Economic Update
DESCRIPTION:Join us as Anoop Mishra\, vice president and regional executive of the Birmingham Branch of the Federal Reserve Bank of Atlanta\, provides an economic update. BMSS Wesson CEO Mark Wesson will serve as webinar moderator. \n 
URL:https://www.bmss.com/event/bmss-wesson-presents-an-economic-update/
CATEGORIES:Webinar
ATTACH;FMTTYPE=image/jpeg:https://www.bmss.com/wp-content/uploads/An-Economic-Update-1.jpg
END:VEVENT
BEGIN:VEVENT
DTSTART;TZID=America/Chicago:20211209T083000
DTEND;TZID=America/Chicago:20211209T100000
DTSTAMP:20260421T202611
CREATED:20211115T230930Z
LAST-MODIFIED:20250924T192719Z
UID:10000067-1639038600-1639044000@www.bmss.com
SUMMARY:BMSS Presents:  Year-End Tax Planning Webinar
DESCRIPTION:Please join us as we discuss tax planning strategies for you to consider as the end of 2021 approaches. Through our membership in the BDO Alliance USA\, we are very fortunate to have guest speakers from BDO USA\, LLP share their knowledge and insights with us for this webinar. \n 
URL:https://www.bmss.com/event/bmss-presents-year-end-tax-planning-webinar/
CATEGORIES:Webinar
ATTACH;FMTTYPE=image/jpeg:https://www.bmss.com/wp-content/uploads/Tax-Webinar-4.jpg
END:VEVENT
BEGIN:VEVENT
DTSTART;TZID=America/Chicago:20211111T083000
DTEND;TZID=America/Chicago:20211111T163000
DTSTAMP:20260421T202611
CREATED:20211111T031742Z
LAST-MODIFIED:20250924T192724Z
UID:10000068-1636619400-1636648200@www.bmss.com
SUMMARY:BMSS Presents:  2021 Accounting & Auditing Update Webinar
DESCRIPTION:Join us for our annual BMSS Accounting & Auditing Update Webinar which will feature assurance topics and trends in the evolving accounting industry led by Steve Platau\, J.D.\, CPA. \n*In order to receive CPE credit\, you must respond to at least three polls per CPE credit. \n(Please note: We are not NASBA certified. All approvals are issued by the Alabama State Board of Public Accountancy.) For questions\, please email CPE@bmss.com. \n  \n  \n  \n  \n 
URL:https://www.bmss.com/event/bmss-presents-2021-accounting-auditing-update/
LOCATION:City of Columbus MS
CATEGORIES:Webinar
END:VEVENT
BEGIN:VEVENT
DTSTART;TZID=America/Chicago:20211110T093000
DTEND;TZID=America/Chicago:20211110T103000
DTSTAMP:20260421T202611
CREATED:20211105T184034Z
LAST-MODIFIED:20250924T192729Z
UID:10000069-1636536600-1636540200@www.bmss.com
SUMMARY:BMSS Presents: What the Vaccine Mandate Could Mean for You & Your Business
DESCRIPTION:The Mandate is here. All employers of 100 or more must\, by January 4\, require employees to be vaccinated or undergo weekly testing. \nIs this federal law really going to go into effect? Will it be derailed by lawsuits? What if I don’t comply? How will it be enforced? Who pays for the testing and the time it takes to get tested? Can I make exceptions or accommodations for employees who cannot be vaccinated for health reasons or have a religious objection? What impact does Governor Ivey’s Executive Order (and similar anti-mandate orders in other states) have? \nIf you are a smaller employer\, you have decisions to make too. Can you\, and should you\, voluntarily adopt what the government is requiring or a similar policy? \nJoin us on Wednesday\, November 10 at 9:30 a.m. to hear more and have your questions answered by Breanna Young\, a labor and employment attorney\, and Weathers Bolt\, a general civil litigation attorney\, both with Starnes Davis Florie LLP. \n  \n 
URL:https://www.bmss.com/event/bmss-presents-what-the-vaccine-mandate-could-mean-for-you-your-business/
CATEGORIES:Webinar
ATTACH;FMTTYPE=image/jpeg:https://www.bmss.com/wp-content/uploads/Square-Vaccine-Webinar-1.jpg
END:VEVENT
BEGIN:VEVENT
DTSTART;TZID=America/Chicago:20211019T083000
DTEND;TZID=America/Chicago:20211019T100000
DTSTAMP:20260421T202611
CREATED:20211001T213203Z
LAST-MODIFIED:20251217T135146Z
UID:10000070-1634632200-1634637600@www.bmss.com
SUMMARY:BMSS Presents: Navigating Turbulent Waters of Supply Chain Management
DESCRIPTION:Over the past 18 months\, COVID-19 has wreaked havoc on the supply chain management system. From a shortage of parts to a logjam of logistical processes\, businesses are trying to find ways to minimize the impact on their bottom line. Join us as we hear from top supply chain executives on how they are helping their clients navigate through these turbulent times.
URL:https://www.bmss.com/event/bmss-presents-supply-chain-management-webinar/
CATEGORIES:Webinar
ATTACH;FMTTYPE=image/jpeg:https://www.bmss.com/wp-content/uploads/square-supply-chain-webinar-3.jpg
END:VEVENT
BEGIN:VEVENT
DTSTART;TZID=America/Chicago:20210831T083000
DTEND;TZID=America/Chicago:20210831T100000
DTSTAMP:20260421T202611
CREATED:20210811T220152Z
LAST-MODIFIED:20250924T192741Z
UID:10000071-1630398600-1630404000@www.bmss.com
SUMMARY:BMSS Presents: An Overview of "The Green Book\," President Biden's Blueprint for Taxation
DESCRIPTION:On May 28\, 2021\, the Treasury Department released an overview of tax proposals included in the Biden Administration’s fiscal year 2022 budget submission to Congress. Commonly known as the “Green Book\,” this 114-page document provides more details regarding the Administration’s tax proposals that were previewed in the American Jobs and the American Families Plans. \nThe main points of the Administration’s tax plan – higher tax rates for high-income individuals and large corporations – were established during the presidential campaign and set down in broad terms with the release of the American Jobs and the American Families Plans. However\, important details were missing\, and the Green Book\, which is not yet in a proposed bill form\, is intended to fill in some of the gaps in the Administration’s priorities. \n 
URL:https://www.bmss.com/event/bmss-presents-an-overview-of-the-green-book-president-bidens-blueprint-for-taxation/
CATEGORIES:Webinar
ATTACH;FMTTYPE=image/jpeg:https://www.bmss.com/wp-content/uploads/The-Green-Book-2.jpg
END:VEVENT
BEGIN:VEVENT
DTSTART;TZID=America/Chicago:20210817T140000
DTEND;TZID=America/Chicago:20210817T150000
DTSTAMP:20260421T202611
CREATED:20210706T212128Z
LAST-MODIFIED:20250924T192745Z
UID:10000072-1629208800-1629212400@www.bmss.com
SUMMARY:BMSS & Bradley Present: Small Business Set Asides: How to Qualify and Compete
DESCRIPTION:Join Sarah Osborne to discuss how to set up your business to qualify for small business set asides in government contracting\, including the certification and registration process.  Sarah will also give an overview of the competitive process for set aside contracts and other valuable tips for navigating government procurements. \n 
URL:https://www.bmss.com/event/bmss-bradley-present-supporting-disadvantaged-business-enterprises/
CATEGORIES:Webinar
ATTACH;FMTTYPE=image/jpeg:https://www.bmss.com/wp-content/uploads/Square-BradleyBMSS-Webinar-small-business-1.jpg
END:VEVENT
BEGIN:VEVENT
DTSTART;TZID=America/Chicago:20210810T140000
DTEND;TZID=America/Chicago:20210810T150000
DTSTAMP:20260421T202611
CREATED:20210706T212158Z
LAST-MODIFIED:20250924T192750Z
UID:10000073-1628604000-1628607600@www.bmss.com
SUMMARY:BMSS & Bradley Present: Managing Risk: From Internal Employment Issues to Common Contracting Pitfalls
DESCRIPTION:Every day\, companies of all sizes face legal and employment issues that can seem overwhelming\, but not every company has in-house counsel or a Director of Human Resources to turn to when situations seem sticky. Join us August 10 as Abba Harris and Sarahanne Vaughan of Bradley highlight areas of high risk and discuss how you can prepare to weather any upcoming storms. \n 
URL:https://www.bmss.com/event/bmss-bradley-present-supporting-disadvantaged-business-enterprises-2/
CATEGORIES:Webinar
ATTACH;FMTTYPE=image/jpeg:https://www.bmss.com/wp-content/uploads/Square-BradleyBMSS-Webinar-2-update.jpg
END:VEVENT
BEGIN:VEVENT
DTSTART;TZID=America/Chicago:20210803T140000
DTEND;TZID=America/Chicago:20210803T150000
DTSTAMP:20260421T202611
CREATED:20210706T211135Z
LAST-MODIFIED:20250924T192756Z
UID:10000074-1627999200-1628002800@www.bmss.com
SUMMARY:BMSS & Bradley Present: Identifying and Leveraging Your Socioeconomic (dis)Advantages
DESCRIPTION:In this webinar\, we will discuss the various contracting assistance programs available through the U.S. Small Business Administration (SBA) for small and/or disadvantaged construction companies\, including how to qualify for and maintain good standing with the programs. We will also take a quick look at specific government contract opportunities available to members of these programs. \n 
URL:https://www.bmss.com/event/three-part-dbe-webinar-series/
CATEGORIES:Webinar
ATTACH;FMTTYPE=image/jpeg:https://www.bmss.com/wp-content/uploads/Instagram-Bradley-Webinar-series-1.jpg
END:VEVENT
BEGIN:VEVENT
DTSTART;TZID=America/Chicago:20210729T083000
DTEND;TZID=America/Chicago:20210729T093000
DTSTAMP:20260421T202611
CREATED:20210629T202806Z
LAST-MODIFIED:20251217T135126Z
UID:10000075-1627547400-1627551000@www.bmss.com
SUMMARY:BMSS Presents:  Hiring & Retaining Your Workforce Post-Pandemic
DESCRIPTION:Now that the economy is recovering from the COVID-19 pandemic and people are venturing back out into the world to resume in-person activities\, the demand for a strong workforce is foremost in management and business owners’ minds. What can you do to retain the employees you have while\, at the same time\, look for new talent to hire? \nJoin us as local business leaders discuss this topic as well as the struggles businesses are facing with their workforces. We will be taking questions from attendees. Please submit yours to marketing@bmss.com. \n.
URL:https://www.bmss.com/event/bmss-presents-hiring-retaining-your-workforce-post-pandemic/
CATEGORIES:Webinar
ATTACH;FMTTYPE=image/jpeg:https://www.bmss.com/wp-content/uploads/FB-Hiring-and-Retaining-Your-Workforce-Post-Pandemic-2.jpg
END:VEVENT
END:VCALENDAR