BEGIN:VCALENDAR
VERSION:2.0
PRODID:-//BMSS, LLC - ECPv6.15.20//NONSGML v1.0//EN
CALSCALE:GREGORIAN
METHOD:PUBLISH
X-ORIGINAL-URL:https://www.bmss.com
X-WR-CALDESC:Events for BMSS, LLC
REFRESH-INTERVAL;VALUE=DURATION:PT1H
X-Robots-Tag:noindex
X-PUBLISHED-TTL:PT1H
BEGIN:VTIMEZONE
TZID:America/Chicago
BEGIN:DAYLIGHT
TZOFFSETFROM:-0600
TZOFFSETTO:-0500
TZNAME:CDT
DTSTART:20250309T080000
END:DAYLIGHT
BEGIN:STANDARD
TZOFFSETFROM:-0500
TZOFFSETTO:-0600
TZNAME:CST
DTSTART:20251102T070000
END:STANDARD
BEGIN:DAYLIGHT
TZOFFSETFROM:-0600
TZOFFSETTO:-0500
TZNAME:CDT
DTSTART:20260308T080000
END:DAYLIGHT
BEGIN:STANDARD
TZOFFSETFROM:-0500
TZOFFSETTO:-0600
TZNAME:CST
DTSTART:20261101T070000
END:STANDARD
BEGIN:DAYLIGHT
TZOFFSETFROM:-0600
TZOFFSETTO:-0500
TZNAME:CDT
DTSTART:20270314T080000
END:DAYLIGHT
BEGIN:STANDARD
TZOFFSETFROM:-0500
TZOFFSETTO:-0600
TZNAME:CST
DTSTART:20271107T070000
END:STANDARD
END:VTIMEZONE
BEGIN:VEVENT
DTSTART;TZID=America/Chicago:20260812T080000
DTEND;TZID=America/Chicago:20260813T120000
DTSTAMP:20260421T212543
CREATED:20260406T194509Z
LAST-MODIFIED:20260406T194509Z
UID:10000086-1786521600-1786622400@www.bmss.com
SUMMARY:BMSS Presents:  An Accounting & Auditing Update
DESCRIPTION:Please join us for our annual summer Accounting & Auditing Update\, which will feature assurance topics and trends in the evolving accounting industry presented by our very own\, engaging Mike Brand. \nBy registering for both sessions\, you will have the opportunity to earn up to eight hours of accounting and auditing CPE. \nSession One Registration \nSession Two Registration 
URL:https://www.bmss.com/event/bmss-presents-an-accounting-auditing-update-4/
CATEGORIES:Webinar
ATTACH;FMTTYPE=image/png:https://www.bmss.com/wp-content/uploads/AA-with-MB-1.png
END:VEVENT
END:VCALENDAR