BEGIN:VCALENDAR
VERSION:2.0
PRODID:-//BMSS, LLC - ECPv6.15.20//NONSGML v1.0//EN
CALSCALE:GREGORIAN
METHOD:PUBLISH
X-WR-CALNAME:BMSS, LLC
X-ORIGINAL-URL:https://www.bmss.com
X-WR-CALDESC:Events for BMSS, LLC
REFRESH-INTERVAL;VALUE=DURATION:PT1H
X-Robots-Tag:noindex
X-PUBLISHED-TTL:PT1H
BEGIN:VTIMEZONE
TZID:America/Chicago
BEGIN:DAYLIGHT
TZOFFSETFROM:-0600
TZOFFSETTO:-0500
TZNAME:CDT
DTSTART:20250309T080000
END:DAYLIGHT
BEGIN:STANDARD
TZOFFSETFROM:-0500
TZOFFSETTO:-0600
TZNAME:CST
DTSTART:20251102T070000
END:STANDARD
BEGIN:DAYLIGHT
TZOFFSETFROM:-0600
TZOFFSETTO:-0500
TZNAME:CDT
DTSTART:20260308T080000
END:DAYLIGHT
BEGIN:STANDARD
TZOFFSETFROM:-0500
TZOFFSETTO:-0600
TZNAME:CST
DTSTART:20261101T070000
END:STANDARD
BEGIN:DAYLIGHT
TZOFFSETFROM:-0600
TZOFFSETTO:-0500
TZNAME:CDT
DTSTART:20270314T080000
END:DAYLIGHT
BEGIN:STANDARD
TZOFFSETFROM:-0500
TZOFFSETTO:-0600
TZNAME:CST
DTSTART:20271107T070000
END:STANDARD
END:VTIMEZONE
BEGIN:VEVENT
DTSTART;TZID=America/Chicago:20260319T083000
DTEND;TZID=America/Chicago:20260319T103000
DTSTAMP:20260424T032314
CREATED:20260209T182511Z
LAST-MODIFIED:20260319T180259Z
UID:10000083-1773909000-1773916200@www.bmss.com
SUMMARY:BMSS Presents: Government Contract Accounting Systems Review
DESCRIPTION:Join us for an immersed discussion on government contract accounting systems focused on helping business and operation leaders understand the process\, purpose\, and potential impact on their organization.
URL:https://www.bmss.com/event/bmss-presents-government-contract-accounting-systems-review/
CATEGORIES:Webinar
ATTACH;FMTTYPE=image/png:https://www.bmss.com/wp-content/uploads/Government-Contract-Accounting-Systems-Review-1.png
END:VEVENT
END:VCALENDAR