BEGIN:VCALENDAR
VERSION:2.0
PRODID:-//BMSS, LLC - ECPv6.15.20//NONSGML v1.0//EN
CALSCALE:GREGORIAN
METHOD:PUBLISH
X-WR-CALNAME:BMSS, LLC
X-ORIGINAL-URL:https://www.bmss.com
X-WR-CALDESC:Events for BMSS, LLC
REFRESH-INTERVAL;VALUE=DURATION:PT1H
X-Robots-Tag:noindex
X-PUBLISHED-TTL:PT1H
BEGIN:VTIMEZONE
TZID:America/Chicago
BEGIN:DAYLIGHT
TZOFFSETFROM:-0600
TZOFFSETTO:-0500
TZNAME:CDT
DTSTART:20250309T080000
END:DAYLIGHT
BEGIN:STANDARD
TZOFFSETFROM:-0500
TZOFFSETTO:-0600
TZNAME:CST
DTSTART:20251102T070000
END:STANDARD
BEGIN:DAYLIGHT
TZOFFSETFROM:-0600
TZOFFSETTO:-0500
TZNAME:CDT
DTSTART:20260308T080000
END:DAYLIGHT
BEGIN:STANDARD
TZOFFSETFROM:-0500
TZOFFSETTO:-0600
TZNAME:CST
DTSTART:20261101T070000
END:STANDARD
BEGIN:DAYLIGHT
TZOFFSETFROM:-0600
TZOFFSETTO:-0500
TZNAME:CDT
DTSTART:20270314T080000
END:DAYLIGHT
BEGIN:STANDARD
TZOFFSETFROM:-0500
TZOFFSETTO:-0600
TZNAME:CST
DTSTART:20271107T070000
END:STANDARD
END:VTIMEZONE
BEGIN:VEVENT
DTSTART;TZID=America/Chicago:20260303T083000
DTEND;TZID=America/Chicago:20260303T100000
DTSTAMP:20260422T024252
CREATED:20260205T180512Z
LAST-MODIFIED:20260319T180247Z
UID:10000082-1772526600-1772532000@www.bmss.com
SUMMARY:BMSS Family of Companies Presents:  A Public & Private Markets Update
DESCRIPTION:Join BMSS Wesson Wealth Solutions for a discussion with industry experts as they provide timely updates on both private and public markets\, including trends in the stock market and key indicators to watch as we head into 2026. \n 
URL:https://www.bmss.com/event/bmss-family-of-companies-presents-a-public-private-markets-update/
CATEGORIES:Webinar
ATTACH;FMTTYPE=image/png:https://www.bmss.com/wp-content/uploads/Wesson-Public-and-Private-Markets-webinar.png
END:VEVENT
BEGIN:VEVENT
DTSTART;TZID=America/Chicago:20260312T083000
DTEND;TZID=America/Chicago:20260312T100000
DTSTAMP:20260422T024252
CREATED:20260127T151449Z
LAST-MODIFIED:20260319T180228Z
UID:10000080-1773304200-1773309600@www.bmss.com
SUMMARY:BMSS Family of Companies Presents:  An HR Compliance Update
DESCRIPTION:Join us for an informative webinar on today’s complex workplace regulations. We’ll review important federal\, state\, and local obligations\, point out frequent compliance missteps\, and provide actionable strategies to help you avoid them. \n 
URL:https://www.bmss.com/event/bmss-family-of-companies-presents-an-hr-compliance-update/
CATEGORIES:Webinar
ATTACH;FMTTYPE=image/png:https://www.bmss.com/wp-content/uploads/HR-Update-webinar.png
END:VEVENT
BEGIN:VEVENT
DTSTART;TZID=America/Chicago:20260319T083000
DTEND;TZID=America/Chicago:20260319T103000
DTSTAMP:20260422T024252
CREATED:20260209T182511Z
LAST-MODIFIED:20260319T180259Z
UID:10000083-1773909000-1773916200@www.bmss.com
SUMMARY:BMSS Presents: Government Contract Accounting Systems Review
DESCRIPTION:Join us for an immersed discussion on government contract accounting systems focused on helping business and operation leaders understand the process\, purpose\, and potential impact on their organization.
URL:https://www.bmss.com/event/bmss-presents-government-contract-accounting-systems-review/
CATEGORIES:Webinar
ATTACH;FMTTYPE=image/png:https://www.bmss.com/wp-content/uploads/Government-Contract-Accounting-Systems-Review-1.png
END:VEVENT
END:VCALENDAR