BEGIN:VCALENDAR
VERSION:2.0
PRODID:-//BMSS, LLC - ECPv6.15.20//NONSGML v1.0//EN
CALSCALE:GREGORIAN
METHOD:PUBLISH
X-ORIGINAL-URL:https://www.bmss.com
X-WR-CALDESC:Events for BMSS, LLC
REFRESH-INTERVAL;VALUE=DURATION:PT1H
X-Robots-Tag:noindex
X-PUBLISHED-TTL:PT1H
BEGIN:VTIMEZONE
TZID:America/Chicago
BEGIN:DAYLIGHT
TZOFFSETFROM:-0600
TZOFFSETTO:-0500
TZNAME:CDT
DTSTART:20210314T080000
END:DAYLIGHT
BEGIN:STANDARD
TZOFFSETFROM:-0500
TZOFFSETTO:-0600
TZNAME:CST
DTSTART:20211107T070000
END:STANDARD
BEGIN:DAYLIGHT
TZOFFSETFROM:-0600
TZOFFSETTO:-0500
TZNAME:CDT
DTSTART:20220313T080000
END:DAYLIGHT
BEGIN:STANDARD
TZOFFSETFROM:-0500
TZOFFSETTO:-0600
TZNAME:CST
DTSTART:20221106T070000
END:STANDARD
BEGIN:DAYLIGHT
TZOFFSETFROM:-0600
TZOFFSETTO:-0500
TZNAME:CDT
DTSTART:20230312T080000
END:DAYLIGHT
BEGIN:STANDARD
TZOFFSETFROM:-0500
TZOFFSETTO:-0600
TZNAME:CST
DTSTART:20231105T070000
END:STANDARD
BEGIN:DAYLIGHT
TZOFFSETFROM:-0600
TZOFFSETTO:-0500
TZNAME:CDT
DTSTART:20240310T080000
END:DAYLIGHT
BEGIN:STANDARD
TZOFFSETFROM:-0500
TZOFFSETTO:-0600
TZNAME:CST
DTSTART:20241103T070000
END:STANDARD
BEGIN:DAYLIGHT
TZOFFSETFROM:-0600
TZOFFSETTO:-0500
TZNAME:CDT
DTSTART:20250309T080000
END:DAYLIGHT
BEGIN:STANDARD
TZOFFSETFROM:-0500
TZOFFSETTO:-0600
TZNAME:CST
DTSTART:20251102T070000
END:STANDARD
BEGIN:DAYLIGHT
TZOFFSETFROM:-0600
TZOFFSETTO:-0500
TZNAME:CDT
DTSTART:20260308T080000
END:DAYLIGHT
BEGIN:STANDARD
TZOFFSETFROM:-0500
TZOFFSETTO:-0600
TZNAME:CST
DTSTART:20261101T070000
END:STANDARD
END:VTIMEZONE
BEGIN:VEVENT
DTSTART;TZID=America/Chicago:20251114T083000
DTEND;TZID=America/Chicago:20251114T163000
DTSTAMP:20260422T024532
CREATED:20260312T162216Z
LAST-MODIFIED:20260312T162216Z
UID:10000030-1763109000-1763137800@www.bmss.com
SUMMARY:BMSS Presents:  An Accounting & Auditing Update
DESCRIPTION:Please join us for our annual accounting and auditing update\, featuring up-to-date assurance topics and trends in the evolving accounting industry\, led by Steve Platau. \n 
URL:https://www.bmss.com/event/bmss-presents-an-accounting-auditing-update-3/
CATEGORIES:Seminar
END:VEVENT
BEGIN:VEVENT
DTSTART;TZID=America/Chicago:20241114T073000
DTEND;TZID=America/Chicago:20241114T163000
DTSTAMP:20260422T024532
CREATED:20240606T180114Z
LAST-MODIFIED:20250924T191850Z
UID:10000013-1731569400-1731601800@www.bmss.com
SUMMARY:BMSS Presents:  An Accounting & Auditing Update
DESCRIPTION:Please join us for our annual accounting and auditing update\, featuring up-to-date assurance topics and trends in the evolving accounting industry\, led by Steve Platau. \n 
URL:https://www.bmss.com/event/6137/
CATEGORIES:Seminar
END:VEVENT
BEGIN:VEVENT
DTSTART;TZID=America/Chicago:20230628T100000
DTEND;TZID=America/Chicago:20230628T140000
DTSTAMP:20260422T024532
CREATED:20230512T205145Z
LAST-MODIFIED:20250924T192311Z
UID:10000050-1687946400-1687960800@www.bmss.com
SUMMARY:BMSS Presents:  A Credit Union Roundtable
DESCRIPTION:Credit unions are part of a highly regulated and constantly changing industry. How do you keep up with all of the developments? Join our Credit Union professionals as they provide information on current topics and trends to keep you aware of regulations and requirements that may impact your organization.
URL:https://www.bmss.com/event/bmss-presents-a-credit-union-roundtable/
LOCATION:Government Contracting
CATEGORIES:Seminar
END:VEVENT
BEGIN:VEVENT
DTSTART;TZID=America/Chicago:20221118T073000
DTEND;TZID=America/Chicago:20221118T163000
DTSTAMP:20260422T024532
CREATED:20220802T202510Z
LAST-MODIFIED:20250924T192105Z
UID:10000047-1668756600-1668789000@www.bmss.com
SUMMARY:BMSS Presents: A&A Update with Steve Platau
DESCRIPTION:Please join us for our annual accounting and auditing update which will feature up-to-date assurance topics and trends in the evolving accounting industry led by Steve Platau. \nAgenda:\n7:30 a.m. – Registration and Light Breakfast\n8:30 a.m. – Seminar Begins\n12:00 p.m. – Lunch Provided\n4:30 p.m. – End of Seminar \n  \n 
URL:https://www.bmss.com/event/bmss-presents-aa-update-with-steve-platau/
LOCATION:MBN Article Template (DO NOT DELETE)
CATEGORIES:Seminar
ATTACH;FMTTYPE=image/jpeg:https://www.bmss.com/wp-content/uploads/AA-Steve-Platau-Instagram-Post-Square.jpg
END:VEVENT
BEGIN:VEVENT
DTSTART;TZID=America/Chicago:20220907T070000
DTEND;TZID=America/Chicago:20220907T150000
DTSTAMP:20260422T024532
CREATED:20220804T191920Z
LAST-MODIFIED:20251217T135707Z
UID:10000057-1662534000-1662562800@www.bmss.com
SUMMARY:BMSS Presents: A Government Contracting Summit
DESCRIPTION:Register now for our in-person event! \nRegister\nSeven (7) hours of CPE will be awarded for attending the whole day. \n 
URL:https://www.bmss.com/event/bmss-presents-a-government-contracting-summit/
LOCATION:Jennifer Hilliard
CATEGORIES:Seminar
ATTACH;FMTTYPE=image/jpeg:https://www.bmss.com/wp-content/uploads/A-Gov-Con-Summit-All-Logos-1.jpg
END:VEVENT
END:VCALENDAR