BEGIN:VCALENDAR
VERSION:2.0
PRODID:-//BMSS, LLC - ECPv6.15.20//NONSGML v1.0//EN
CALSCALE:GREGORIAN
METHOD:PUBLISH
X-ORIGINAL-URL:https://www.bmss.com
X-WR-CALDESC:Events for BMSS, LLC
REFRESH-INTERVAL;VALUE=DURATION:PT1H
X-Robots-Tag:noindex
X-PUBLISHED-TTL:PT1H
BEGIN:VTIMEZONE
TZID:America/Chicago
BEGIN:DAYLIGHT
TZOFFSETFROM:-0600
TZOFFSETTO:-0500
TZNAME:CDT
DTSTART:20240310T080000
END:DAYLIGHT
BEGIN:STANDARD
TZOFFSETFROM:-0500
TZOFFSETTO:-0600
TZNAME:CST
DTSTART:20241103T070000
END:STANDARD
BEGIN:DAYLIGHT
TZOFFSETFROM:-0600
TZOFFSETTO:-0500
TZNAME:CDT
DTSTART:20250309T080000
END:DAYLIGHT
BEGIN:STANDARD
TZOFFSETFROM:-0500
TZOFFSETTO:-0600
TZNAME:CST
DTSTART:20251102T070000
END:STANDARD
BEGIN:DAYLIGHT
TZOFFSETFROM:-0600
TZOFFSETTO:-0500
TZNAME:CDT
DTSTART:20260308T080000
END:DAYLIGHT
BEGIN:STANDARD
TZOFFSETFROM:-0500
TZOFFSETTO:-0600
TZNAME:CST
DTSTART:20261101T070000
END:STANDARD
END:VTIMEZONE
BEGIN:VEVENT
DTSTART;TZID=America/Chicago:20251209T083000
DTEND;TZID=America/Chicago:20251209T100000
DTSTAMP:20260421T200706
CREATED:20251110T170809Z
LAST-MODIFIED:20260312T162143Z
UID:10000077-1765269000-1765274400@www.bmss.com
SUMMARY:BMSS Presents:  A Construction Industry Update
DESCRIPTION:Join us for an in-depth webinar tailored for construction industry professionals. Our experts will explore the importance of surety bonds\, how bonding companies evaluate financial stability\, risk capacity\, and working capital needs\, as well as the impact of economic pressures like tariffs\, inflation\, and fraud risk on underwriting from the perspective of the insurance and legal/financial viewpoints. The session will also cover key ratios and metrics sureties are monitoring today\, plus provide insights into captive insurance arrangements and when they may be the right fit for your company.
URL:https://www.bmss.com/event/bmss-presents-a-construction-industry-update-2/
CATEGORIES:Webinar
ATTACH;FMTTYPE=image/png:https://www.bmss.com/wp-content/uploads/BMSS-Presents-A-Construction-Update.png
END:VEVENT
END:VCALENDAR